BEGIN:VCALENDAR
VERSION:2.0
PRODID:-//CLL Society - ECPv6.14.2//NONSGML v1.0//EN
CALSCALE:GREGORIAN
METHOD:PUBLISH
X-WR-CALNAME:CLL Society
X-ORIGINAL-URL:https://cllsociety.org
X-WR-CALDESC:Events for CLL Society
REFRESH-INTERVAL;VALUE=DURATION:PT1H
X-Robots-Tag:noindex
X-PUBLISHED-TTL:PT1H
BEGIN:VTIMEZONE
TZID:America/New_York
BEGIN:DAYLIGHT
TZOFFSETFROM:-0500
TZOFFSETTO:-0400
TZNAME:EDT
DTSTART:20240310T070000
END:DAYLIGHT
BEGIN:STANDARD
TZOFFSETFROM:-0400
TZOFFSETTO:-0500
TZNAME:EST
DTSTART:20241103T060000
END:STANDARD
END:VTIMEZONE
BEGIN:VEVENT
DTSTART;TZID=America/New_York:20240217T100000
DTEND;TZID=America/New_York:20240217T113000
DTSTAMP:20260421T153512
CREATED:20171219T133434Z
LAST-MODIFIED:20240627T162435Z
UID:10004345-1708164000-1708169400@cllsociety.org
SUMMARY:Western NC CLL Society Support Group
DESCRIPTION:This Support Group meeting will be held virtually. Support group members will receive an invitation to register for the meeting from the support group facilitator. If you are new to the group\, please sign-up below. \nPlease join us for a CLL Patient and Care Partner Support Group in the Western North Carolina-area\, sponsored by the CLL Society \nSupport Group Sign-up: Click the button below and complete the brief form to sign-up for this support group. \n \nIf you have questions prior to signing up\, please email support@cllsociety.org and include the name of the CLL Support Group you’re thinking of joining. A support group facilitator will get back to you. \nWe look forward to seeing you there!
URL:https://cllsociety.org/event/western-north-carolina-cll-patient-support-group-8/2024-02-17/
LOCATION:Western NC CLL Society Support Group
GEO:35.2631741;-81.0197141
END:VEVENT
BEGIN:VEVENT
DTSTART;TZID=America/New_York:20240217T103000
DTEND;TZID=America/New_York:20240217T120000
DTSTAMP:20260421T153512
CREATED:20171114T094825Z
LAST-MODIFIED:20240627T160726Z
UID:10004692-1708165800-1708171200@cllsociety.org
SUMMARY:Tampa CLL Society Support Group
DESCRIPTION:This Support Group meeting will be held virtually. Support group members will receive an invitation to register for the meeting from the support group facilitator. If you are new to the group\, please sign-up below.\n\n\n \nWe welcome you to meet with other people who are  going through the CLL experience and with the caregivers who support them. \nSupport Group Sign-up: Click the button below and complete the brief form to sign-up for this support group. \n \nIf you have questions prior to signing up\, please email support@cllsociety.org and include the name of the CLL Support Group you’re thinking of joining. A support group facilitator will get back to you.
URL:https://cllsociety.org/event/central-florida-cll-support-group-7-2018-04-21/2024-02-17/
LOCATION:Tampa CLL Society Support Group
GEO:28.0656462;-82.4212081
END:VEVENT
BEGIN:VEVENT
DTSTART;TZID=America/New_York:20240217T110000
DTEND;TZID=America/New_York:20240217T123000
DTSTAMP:20260421T153512
CREATED:20180924T072755Z
LAST-MODIFIED:20250107T143417Z
UID:10009613-1708167600-1708173000@cllsociety.org
SUMMARY:Boston CLL Patient Support Group
DESCRIPTION:This Support Group meeting will be held virtually. Support group members will receive an invitation to register for the meeting from the support group facilitator. If you are new to the group\, please sign-up below. \nSupport Group Sign-up: Click the button below and complete the brief form to sign-up for this support group. \n \nIf you have questions prior to signing up\, please email support@cllsociety.org and include the name of the CLL Support Group you’re thinking of joining. A support group facilitator will get back to you.
URL:https://cllsociety.org/event/boston-cll-patient-support-group-19/2024-02-17/
LOCATION:Boston CLL Society Support Group
GEO:42.3183303;-71.2655161
END:VEVENT
BEGIN:VEVENT
DTSTART;TZID=America/New_York:20240217T110000
DTEND;TZID=America/New_York:20240217T130000
DTSTAMP:20260421T153512
CREATED:20180903T180707Z
LAST-MODIFIED:20240627T155132Z
UID:10008308-1708167600-1708174800@cllsociety.org
SUMMARY:West LA CLL Society Support Group
DESCRIPTION:This Support Group meeting will be held virtually. Support group members will receive an invitation to register for the meeting from the support group facilitator. If you are new to the group\, please sign-up below.\n\nPlease join the West LA CLL Support Group! \nSupport Group Sign-up: Click the button below and complete the brief form to sign-up for this support group. \n \nIf you have questions prior to signing up\, please email support@cllsociety.org and include the name of the CLL Support Group you’re thinking of joining. A support group facilitator will get back to you.
URL:https://cllsociety.org/event/west-la-cll-support-group-2023-12-16/2024-02-17/
LOCATION:West LA CLL Society Support Group
GEO:33.9557077;-118.4040478
END:VEVENT
BEGIN:VEVENT
DTSTART;TZID=America/New_York:20240217T130000
DTEND;TZID=America/New_York:20240217T140000
DTSTAMP:20260421T153512
CREATED:20190311T080633Z
LAST-MODIFIED:20241011T172058Z
UID:10007852-1708174800-1708178400@cllsociety.org
SUMMARY:Oberlin OH CLL Society Support Group
DESCRIPTION:This Support Group meeting will be held virtually. Support group members will receive an invitation to register for the meeting from the support group facilitator. If you are new to the group\, please contact the RSVP email below for the invitation. \n  \n\nSupport Group Sign-up: Click the button below and complete the brief form to sign-up for this support group. \n \nIf you have questions prior to signing up\, please email support@cllsociety.org and include the name of the CLL Support Group you’re thinking of joining. A support group facilitator will get back to you.
URL:https://cllsociety.org/event/oberlin-oh-cll-patient-support-group-2020-04-18-2020-06-20-2021-06-19/2024-02-17/
LOCATION:Oberlin OH CLL Society Support Group
GEO:41.3028178;-82.211508
END:VEVENT
BEGIN:VEVENT
DTSTART;TZID=America/New_York:20240217T150000
DTEND;TZID=America/New_York:20240217T170000
DTSTAMP:20260421T153512
CREATED:20170226T111158Z
LAST-MODIFIED:20251222T174336Z
UID:10008350-1708182000-1708189200@cllsociety.org
SUMMARY:DC Based CLL Society Support Group
DESCRIPTION:This Support Group meeting will be held virtually. Support group members will receive an invitation to register for the meeting from the support group facilitator. If you are new to the group\, please sign-up below.\n\n  \nThe CLL Society invites you to join a CLL patient and care partner support group in the Washington DC-area. \nUpdates on CLL research are shared during each session with opportunities for Q & A. \nSupport Group Sign-up: Click the button below and complete the brief form to sign-up for this support group. \n \nIf you have questions prior to signing up\, please email support@cllsociety.org and include the name of the CLL Support Group you’re thinking of joining. A support group facilitator will get back to you.
URL:https://cllsociety.org/event/washington-dc-support-group-2018-03-17-2018-07-21-2023-02-18-2023-03-18-2023-11-18/2024-02-17/
LOCATION:DC Based CLL Society Support Group
GEO:38.9091043;-77.3017309
END:VEVENT
END:VCALENDAR