BEGIN:VCALENDAR
VERSION:2.0
PRODID:-//CLL Society - ECPv6.15.20//NONSGML v1.0//EN
CALSCALE:GREGORIAN
METHOD:PUBLISH
X-ORIGINAL-URL:https://cllsociety.org
X-WR-CALDESC:Events for CLL Society
REFRESH-INTERVAL;VALUE=DURATION:PT1H
X-Robots-Tag:noindex
X-PUBLISHED-TTL:PT1H
BEGIN:VTIMEZONE
TZID:America/Los_Angeles
BEGIN:DAYLIGHT
TZOFFSETFROM:-0800
TZOFFSETTO:-0700
TZNAME:PDT
DTSTART:20230312T100000
END:DAYLIGHT
BEGIN:STANDARD
TZOFFSETFROM:-0700
TZOFFSETTO:-0800
TZNAME:PST
DTSTART:20231105T090000
END:STANDARD
BEGIN:DAYLIGHT
TZOFFSETFROM:-0800
TZOFFSETTO:-0700
TZNAME:PDT
DTSTART:20240310T100000
END:DAYLIGHT
BEGIN:STANDARD
TZOFFSETFROM:-0700
TZOFFSETTO:-0800
TZNAME:PST
DTSTART:20241103T090000
END:STANDARD
BEGIN:DAYLIGHT
TZOFFSETFROM:-0800
TZOFFSETTO:-0700
TZNAME:PDT
DTSTART:20250309T100000
END:DAYLIGHT
BEGIN:STANDARD
TZOFFSETFROM:-0700
TZOFFSETTO:-0800
TZNAME:PST
DTSTART:20251102T090000
END:STANDARD
END:VTIMEZONE
BEGIN:VEVENT
DTSTART;TZID=America/Los_Angeles:20240601T100000
DTEND;TZID=America/Los_Angeles:20240601T113000
DTSTAMP:20260425T104753
CREATED:20221026T211400Z
LAST-MODIFIED:20240627T172456Z
UID:10008419-1717236000-1717241400@cllsociety.org
SUMMARY:Western Watch & Wait CLL Society Support Group
DESCRIPTION:The time listed above is Pacific Time. \nThis Support Group meeting will be held virtually. Support group members will receive an invitation to register for the meeting from the support group facilitator. If you are new to the group\, please sign-up below. \nCLL Society invites you to join a CLL patient and caregiver support and education group. \n  \nSupport Group Sign-up: Click the button below and complete the brief form to sign-up for this support group. \n  \n \nIf you have questions prior to signing up\, please email support@cllsociety.org and include the name of the CLL Support Group you’re thinking of joining. A support group facilitator will get back to you.
URL:https://cllsociety.org/event/western-watch-wait-cll-society-support-group-2023-04-01-2023-08-05-2023-10-07-2023-12-02/2024-06-01/
LOCATION:Western Watch & Wait CLL Society Support Group
END:VEVENT
END:VCALENDAR