BEGIN:VCALENDAR
VERSION:2.0
PRODID:-//CLL Society - ECPv6.15.20//NONSGML v1.0//EN
CALSCALE:GREGORIAN
METHOD:PUBLISH
X-WR-CALNAME:CLL Society
X-ORIGINAL-URL:https://cllsociety.org
X-WR-CALDESC:Events for CLL Society
REFRESH-INTERVAL;VALUE=DURATION:PT1H
X-Robots-Tag:noindex
X-PUBLISHED-TTL:PT1H
BEGIN:VTIMEZONE
TZID:America/Los_Angeles
BEGIN:DAYLIGHT
TZOFFSETFROM:-0800
TZOFFSETTO:-0700
TZNAME:PDT
DTSTART:20240310T100000
END:DAYLIGHT
BEGIN:STANDARD
TZOFFSETFROM:-0700
TZOFFSETTO:-0800
TZNAME:PST
DTSTART:20241103T090000
END:STANDARD
BEGIN:DAYLIGHT
TZOFFSETFROM:-0800
TZOFFSETTO:-0700
TZNAME:PDT
DTSTART:20250309T100000
END:DAYLIGHT
BEGIN:STANDARD
TZOFFSETFROM:-0700
TZOFFSETTO:-0800
TZNAME:PST
DTSTART:20251102T090000
END:STANDARD
BEGIN:DAYLIGHT
TZOFFSETFROM:-0800
TZOFFSETTO:-0700
TZNAME:PDT
DTSTART:20260308T100000
END:DAYLIGHT
BEGIN:STANDARD
TZOFFSETFROM:-0700
TZOFFSETTO:-0800
TZNAME:PST
DTSTART:20261101T090000
END:STANDARD
END:VTIMEZONE
BEGIN:VTIMEZONE
TZID:America/New_York
BEGIN:DAYLIGHT
TZOFFSETFROM:-0500
TZOFFSETTO:-0400
TZNAME:EDT
DTSTART:20240310T070000
END:DAYLIGHT
BEGIN:STANDARD
TZOFFSETFROM:-0400
TZOFFSETTO:-0500
TZNAME:EST
DTSTART:20241103T060000
END:STANDARD
BEGIN:DAYLIGHT
TZOFFSETFROM:-0500
TZOFFSETTO:-0400
TZNAME:EDT
DTSTART:20250309T070000
END:DAYLIGHT
BEGIN:STANDARD
TZOFFSETFROM:-0400
TZOFFSETTO:-0500
TZNAME:EST
DTSTART:20251102T060000
END:STANDARD
BEGIN:DAYLIGHT
TZOFFSETFROM:-0500
TZOFFSETTO:-0400
TZNAME:EDT
DTSTART:20260308T070000
END:DAYLIGHT
BEGIN:STANDARD
TZOFFSETFROM:-0400
TZOFFSETTO:-0500
TZNAME:EST
DTSTART:20261101T060000
END:STANDARD
END:VTIMEZONE
BEGIN:VEVENT
DTSTART;TZID=America/Los_Angeles:20250607T100000
DTEND;TZID=America/Los_Angeles:20250607T113000
DTSTAMP:20260425T122747
CREATED:20250529T180022Z
LAST-MODIFIED:20250602T150301Z
UID:10008843-1749290400-1749295800@cllsociety.org
SUMMARY:Western Watch & Wait CLL Society Support Group
DESCRIPTION:This Support Group meeting will be held virtually. Support group members will receive an invitation to register for the meeting from the support group facilitator. If you are new to the group\, please sign-up below. \nCLL Society invites you to join a CLL patient and care partner support and education group. Please note\, the meeting times are in Pacific Time. \nSupport Group Sign-up: Click the button below and complete the brief form to sign-up for this support group. \n  \n \nIf you have questions prior to signing up\, please email support@cllsociety.org and include the name of the CLL Support Group you’re thinking of joining. A support group facilitator will get back to you.
URL:https://cllsociety.org/event/western-watch-wait-cll-society-support-group-2/
LOCATION:Western Watch & Wait CLL Society Support Group
END:VEVENT
BEGIN:VEVENT
DTSTART;TZID=America/New_York:20250607T190000
DTEND;TZID=America/New_York:20250607T203000
DTSTAMP:20260425T122747
CREATED:20171118T010651Z
LAST-MODIFIED:20250630T202925Z
UID:10009759-1749322800-1749328200@cllsociety.org
SUMMARY:Milwaukee CLL Support Group
DESCRIPTION:This Support Group meeting will be held virtually. Support group members will receive an invitation to register for the meeting from the support group facilitator. If you are new to the group\, please sign-up below. \nSupport Group Sign-up: Click the button below and complete the brief form to sign-up for this support group. \n \nIf you have questions prior to signing up\, please email support@cllsociety.org and include the name of the CLL Support Group you’re thinking of joining. A support group facilitator will get back to you.
URL:https://cllsociety.org/event/milwaukee-cll-support-group-2-2020-12-17-2023-12-28/2025-06-07/
LOCATION:WI CLL Society Support Group
GEO:43.0408561;-88.024865
END:VEVENT
END:VCALENDAR