BEGIN:VCALENDAR
VERSION:2.0
PRODID:-//CLL Society - ECPv6.15.20//NONSGML v1.0//EN
CALSCALE:GREGORIAN
METHOD:PUBLISH
X-WR-CALNAME:CLL Society
X-ORIGINAL-URL:https://cllsociety.org
X-WR-CALDESC:Events for CLL Society
REFRESH-INTERVAL;VALUE=DURATION:PT1H
X-Robots-Tag:noindex
X-PUBLISHED-TTL:PT1H
BEGIN:VTIMEZONE
TZID:America/New_York
BEGIN:DAYLIGHT
TZOFFSETFROM:-0500
TZOFFSETTO:-0400
TZNAME:EDT
DTSTART:20160313T070000
END:DAYLIGHT
BEGIN:STANDARD
TZOFFSETFROM:-0400
TZOFFSETTO:-0500
TZNAME:EST
DTSTART:20161106T060000
END:STANDARD
BEGIN:DAYLIGHT
TZOFFSETFROM:-0500
TZOFFSETTO:-0400
TZNAME:EDT
DTSTART:20170312T070000
END:DAYLIGHT
BEGIN:STANDARD
TZOFFSETFROM:-0400
TZOFFSETTO:-0500
TZNAME:EST
DTSTART:20171105T060000
END:STANDARD
BEGIN:DAYLIGHT
TZOFFSETFROM:-0500
TZOFFSETTO:-0400
TZNAME:EDT
DTSTART:20180311T070000
END:DAYLIGHT
BEGIN:STANDARD
TZOFFSETFROM:-0400
TZOFFSETTO:-0500
TZNAME:EST
DTSTART:20181104T060000
END:STANDARD
BEGIN:DAYLIGHT
TZOFFSETFROM:-0500
TZOFFSETTO:-0400
TZNAME:EDT
DTSTART:20190310T070000
END:DAYLIGHT
BEGIN:STANDARD
TZOFFSETFROM:-0400
TZOFFSETTO:-0500
TZNAME:EST
DTSTART:20191103T060000
END:STANDARD
END:VTIMEZONE
BEGIN:VEVENT
DTSTART;TZID=America/New_York:20180217T103000
DTEND;TZID=America/New_York:20180217T120000
DTSTAMP:20260424T151032
CREATED:20171114T094709Z
LAST-MODIFIED:20171114T094709Z
UID:10006702-1518863400-1518868800@cllsociety.org
SUMMARY:Central Florida CLL Support Group
DESCRIPTION:We welcome you to meet with other people who are  going through the CLL experience and with the caregivers who support them. \nThis Month\, Dr. Denae Beckman\, Pharm D\, a PGY-2 Pharmacy Resident at Moffitt will present a “Review of CLL Drugs” \nLocation: \nTrustees Board Room\nMoffitt Cancer Center Main Campus\n12902 USF Magnolia Dr.\nTampa\, FL 33612 \nRSVP to Archie Banfield – archiebanfield25@gmail.com \nRefreshments will be provided \nFor easiest access to the Conference Room\, please park at the GOLD VALET \nConference Room is located on 1st floor of the Stabile Research Building\, across from the Moffitt Clinic Building. (Same building as last meeting)
URL:https://cllsociety.org/event/central-florida-cll-support-group-6/
LOCATION:Tampa CLL Society Support Group
ORGANIZER;CN="Archie Banfield":MAILTO:archiebanfield25@gmail.com
GEO:28.0656462;-82.4212081
END:VEVENT
BEGIN:VEVENT
DTSTART;TZID=America/New_York:20180120T103000
DTEND;TZID=America/New_York:20180120T120000
DTSTAMP:20260424T151032
CREATED:20171114T094550Z
LAST-MODIFIED:20171114T094550Z
UID:10006701-1516444200-1516449600@cllsociety.org
SUMMARY:Central Florida CLL Support Group
DESCRIPTION:THIS MONTH’S MEETING IS CANCELLED. WE LOOK FORWARD TO SEEING YOU NEXT MONTH! \nWe welcome you to meet with other people who are  going through the CLL experience and with the caregivers who support them. \nLocation: \nTrustees Board Room\nMoffitt Cancer Center Main Campus\n12902 USF Magnolia Dr.\nTampa\, FL 33612 \nRSVP to Archie Banfield – archiebanfield25@gmail.com \nRefreshments will be provided \nFor easiest access to the Conference Room\, please park at the GOLD VALET \nConference Room is located on 1st floor of the Stabile Research Building\, across from the Moffitt Clinic Building. (Same building as last meeting)
URL:https://cllsociety.org/event/central-florida-cll-support-group-5/
LOCATION:Tampa CLL Society Support Group
ORGANIZER;CN="Archie Banfield":MAILTO:archiebanfield25@gmail.com
GEO:28.0656462;-82.4212081
END:VEVENT
BEGIN:VEVENT
DTSTART;TZID=America/New_York:20171118T103000
DTEND;TZID=America/New_York:20171118T120000
DTSTAMP:20260424T151032
CREATED:20171022T132253Z
LAST-MODIFIED:20171022T132253Z
UID:10004272-1511001000-1511006400@cllsociety.org
SUMMARY:Central Florida CLL Support Group
DESCRIPTION:We welcome you to meet with other people who are  going through the CLL experience and with the caregivers who support them. \nPresentation:\nEverything You Wanted to Know About CLL Lab Values But Were Afraid to Ask\nBy Lisa Nodzon\, PhD\, ARNP\, AOCNP \nLocation: \nTrustees Board Room\nMoffitt Cancer Center Main Campus\n12902 USF Magnolia Dr.\nTampa\, FL 33612 \nRSVP to Archie Banfield – archiebanfield25@gmail.com \nRefreshments will be provided \nFor easiest access to the Conference Room\, please park at the GOLD VALET \nConference Room is located on 1st floor of the Stabile Research Building\, across from the Moffitt Clinic Building. (Same building as last meeting)
URL:https://cllsociety.org/event/central-florida-cll-support-group-4/
LOCATION:Tampa CLL Society Support Group
ORGANIZER;CN="Archie Banfield":MAILTO:archiebanfield25@gmail.com
GEO:28.0656462;-82.4212081
END:VEVENT
BEGIN:VEVENT
DTSTART;TZID=America/New_York:20171021T103000
DTEND;TZID=America/New_York:20171021T120000
DTSTAMP:20260424T151032
CREATED:20171013T200226Z
LAST-MODIFIED:20171013T200226Z
UID:10004268-1508581800-1508587200@cllsociety.org
SUMMARY:Central Florida CLL Support Group
DESCRIPTION:We welcome you to meet with other people who are  going through the CLL experience and with the caregivers who support them. \nTrustees Board Room\nMoffitt Cancer Center Main Campus\n12902 USF Magnolia Dr.\nTampa\, FL 33612 \nRSVP to Archie Banfield – archiebanfield25@gmail.com \nRefreshments will be provided \nFor easiest access to the Conference Room\, please park at the GOLD VALET \nConference Room is located on 1st floor of the Stabile Research Building\, across from the Moffitt Clinic Building. (Same building as last meeting) \n 
URL:https://cllsociety.org/event/central-florida-cll-support-group-3/
LOCATION:Tampa CLL Society Support Group
ORGANIZER;CN="Archie Banfield":MAILTO:archiebanfield25@gmail.com
GEO:28.0656462;-82.4212081
END:VEVENT
BEGIN:VEVENT
DTSTART;TZID=America/New_York:20170930T103000
DTEND;TZID=America/New_York:20170930T120000
DTSTAMP:20260424T151032
CREATED:20170313T173057Z
LAST-MODIFIED:20170313T173057Z
UID:10005982-1506767400-1506772800@cllsociety.org
SUMMARY:Central Florida CLL Support Group
DESCRIPTION:Moffitt Cancer Center\n12902 USF Magnolia Drive\nTampa\, FL 33612 \nDr. Fred Locke\, the Principal Investigator on the CAR-T clinical trials at Moffitt\, to speak on this new therapy. \nWe will meet this month in the David Murphey Conference room\, Stabile Research Center\, Moffitt Cancer Center Main Conference. For easiest access to the conference room\, please park at the GOLD Valet. \nConference Room is located on the 1st floor of the building across from the Moffitt Clinic Building. \nRSVP to Archie Banfield at archiebanfield25@gmail.com \nRefreshments will be available. \nFor more information and to access the flyer\, click here.
URL:https://cllsociety.org/event/central-florida-cll-support-group-2017-09-19/
LOCATION:Moffitt Cancer Center\, 12902 USF Magnolia Drive\, Tampa\, 33612\, United States
ORGANIZER;CN="Archie Banfield":MAILTO:archiebanfield25@gmail.com
GEO:28.0656462;-82.4212081
X-APPLE-STRUCTURED-LOCATION;VALUE=URI;X-ADDRESS=Moffitt Cancer Center 12902 USF Magnolia Drive Tampa 33612 United States;X-APPLE-RADIUS=500;X-TITLE=12902 USF Magnolia Drive:geo:-82.4212081,28.0656462
END:VEVENT
BEGIN:VEVENT
DTSTART;TZID=America/New_York:20170815T180000
DTEND;TZID=America/New_York:20170815T193000
DTSTAMP:20260424T151032
CREATED:20170718T113116Z
LAST-MODIFIED:20170718T113116Z
UID:10004252-1502820000-1502825400@cllsociety.org
SUMMARY:Central Florida CLL Support Group
DESCRIPTION:Moffitt Cancer Center McKinley Campus\n10920 McKinley Drive\nTampa\, FL 33612 \nAt this meeting\, we will have a dietician from Moffitt that will be talking about Cancer and Nutrition. \nWe meet  in the Gruden Huddle Room. It is located on the SW side of the first floor\, closest to the door to the Parking Garage. The room is to the left as you enter the building from the South side. We recommend you self-park in the parking garage. The Valet service will most likely be shut down by the end of the meeting. The Parking Garage is less than 100 yards SW from the main building. \nRSVP to Archie Banfield at archiebanfield25@gmail.com
URL:https://cllsociety.org/event/central-florida-cll-patient-support-group/
LOCATION:Moffitt Cancer Center McKinley Campus\, 10920 McKinley Drive\, Tampa\, FL\, 33612\, United States
ORGANIZER;CN="Archie Banfield":MAILTO:archiebanfield25@gmail.com
GEO:28.0483655;-82.4171728
X-APPLE-STRUCTURED-LOCATION;VALUE=URI;X-ADDRESS=Moffitt Cancer Center McKinley Campus 10920 McKinley Drive Tampa FL 33612 United States;X-APPLE-RADIUS=500;X-TITLE=10920 McKinley Drive:geo:-82.4171728,28.0483655
END:VEVENT
BEGIN:VEVENT
DTSTART;TZID=America/New_York:20170620T180000
DTEND;TZID=America/New_York:20170620T193000
DTSTAMP:20260424T151032
CREATED:20170427T170442Z
LAST-MODIFIED:20170427T170442Z
UID:10005997-1497981600-1497987000@cllsociety.org
SUMMARY:Central Florida CLL Support Group
DESCRIPTION:Moffitt Cancer Center McKinley Campus\n10920 McKinley Drive\nTampa\, FL 33612 \nWe meet  in the Gruden Huddle Room. It is located on the SW side of the first floor\, closest to the door to the Parking Garage. The room is to the left as you enter the building from the South side. We recommend you self-park in the parking garage. The Valet service will most likely be shut down by the end of the meeting. The Parking Garage is less than 100 yards SW from the main building. \nRSVP to Archie Banfield at archiebanfield25@gmail.com
URL:https://cllsociety.org/event/central-florida-cll-support-group-2/
LOCATION:Moffitt Cancer Center McKinley Campus\, 10920 McKinley Drive\, Tampa\, FL\, 33612\, United States
ORGANIZER;CN="Archie Banfield":MAILTO:archiebanfield25@gmail.com
GEO:28.0483655;-82.4171728
X-APPLE-STRUCTURED-LOCATION;VALUE=URI;X-ADDRESS=Moffitt Cancer Center McKinley Campus 10920 McKinley Drive Tampa FL 33612 United States;X-APPLE-RADIUS=500;X-TITLE=10920 McKinley Drive:geo:-82.4171728,28.0483655
END:VEVENT
END:VCALENDAR