BEGIN:VCALENDAR
VERSION:2.0
PRODID:-//CLL Society - ECPv6.14.2//NONSGML v1.0//EN
CALSCALE:GREGORIAN
METHOD:PUBLISH
X-WR-CALNAME:CLL Society
X-ORIGINAL-URL:https://cllsociety.org
X-WR-CALDESC:Events for CLL Society
REFRESH-INTERVAL;VALUE=DURATION:PT1H
X-Robots-Tag:noindex
X-PUBLISHED-TTL:PT1H
BEGIN:VTIMEZONE
TZID:America/New_York
BEGIN:DAYLIGHT
TZOFFSETFROM:-0500
TZOFFSETTO:-0400
TZNAME:EDT
DTSTART:20260308T070000
END:DAYLIGHT
BEGIN:STANDARD
TZOFFSETFROM:-0400
TZOFFSETTO:-0500
TZNAME:EST
DTSTART:20261101T060000
END:STANDARD
BEGIN:DAYLIGHT
TZOFFSETFROM:-0500
TZOFFSETTO:-0400
TZNAME:EDT
DTSTART:20270314T070000
END:DAYLIGHT
BEGIN:STANDARD
TZOFFSETFROM:-0400
TZOFFSETTO:-0500
TZNAME:EST
DTSTART:20271107T060000
END:STANDARD
END:VTIMEZONE
BEGIN:VEVENT
DTSTART;TZID=America/New_York:20260516T130000
DTEND;TZID=America/New_York:20260516T140000
DTSTAMP:20260423T200321
CREATED:20190311T080633Z
LAST-MODIFIED:20241011T172058Z
UID:10009108-1778936400-1778940000@cllsociety.org
SUMMARY:Oberlin OH CLL Society Support Group
DESCRIPTION:This Support Group meeting will be held virtually. Support group members will receive an invitation to register for the meeting from the support group facilitator. If you are new to the group\, please contact the RSVP email below for the invitation. \n  \n\nSupport Group Sign-up: Click the button below and complete the brief form to sign-up for this support group. \n \nIf you have questions prior to signing up\, please email support@cllsociety.org and include the name of the CLL Support Group you’re thinking of joining. A support group facilitator will get back to you.
URL:https://cllsociety.org/event/oberlin-oh-cll-patient-support-group-2020-04-18-2020-06-20-2021-06-19/2026-05-16/
LOCATION:Oberlin OH CLL Society Support Group
GEO:41.3028178;-82.211508
END:VEVENT
BEGIN:VEVENT
DTSTART;TZID=America/New_York:20260620T130000
DTEND;TZID=America/New_York:20260620T140000
DTSTAMP:20260423T200321
CREATED:20190311T080633Z
LAST-MODIFIED:20241011T172058Z
UID:10009109-1781960400-1781964000@cllsociety.org
SUMMARY:Oberlin OH CLL Society Support Group
DESCRIPTION:This Support Group meeting will be held virtually. Support group members will receive an invitation to register for the meeting from the support group facilitator. If you are new to the group\, please contact the RSVP email below for the invitation. \n  \n\nSupport Group Sign-up: Click the button below and complete the brief form to sign-up for this support group. \n \nIf you have questions prior to signing up\, please email support@cllsociety.org and include the name of the CLL Support Group you’re thinking of joining. A support group facilitator will get back to you.
URL:https://cllsociety.org/event/oberlin-oh-cll-patient-support-group-2020-04-18-2020-06-20-2021-06-19/2026-06-20/
LOCATION:Oberlin OH CLL Society Support Group
GEO:41.3028178;-82.211508
END:VEVENT
BEGIN:VEVENT
DTSTART;TZID=America/New_York:20260718T130000
DTEND;TZID=America/New_York:20260718T140000
DTSTAMP:20260423T200321
CREATED:20190311T080633Z
LAST-MODIFIED:20241011T172058Z
UID:10009110-1784379600-1784383200@cllsociety.org
SUMMARY:Oberlin OH CLL Society Support Group
DESCRIPTION:This Support Group meeting will be held virtually. Support group members will receive an invitation to register for the meeting from the support group facilitator. If you are new to the group\, please contact the RSVP email below for the invitation. \n  \n\nSupport Group Sign-up: Click the button below and complete the brief form to sign-up for this support group. \n \nIf you have questions prior to signing up\, please email support@cllsociety.org and include the name of the CLL Support Group you’re thinking of joining. A support group facilitator will get back to you.
URL:https://cllsociety.org/event/oberlin-oh-cll-patient-support-group-2020-04-18-2020-06-20-2021-06-19/2026-07-18/
LOCATION:Oberlin OH CLL Society Support Group
GEO:41.3028178;-82.211508
END:VEVENT
BEGIN:VEVENT
DTSTART;TZID=America/New_York:20260815T130000
DTEND;TZID=America/New_York:20260815T140000
DTSTAMP:20260423T200321
CREATED:20190311T080633Z
LAST-MODIFIED:20241011T172058Z
UID:10009111-1786798800-1786802400@cllsociety.org
SUMMARY:Oberlin OH CLL Society Support Group
DESCRIPTION:This Support Group meeting will be held virtually. Support group members will receive an invitation to register for the meeting from the support group facilitator. If you are new to the group\, please contact the RSVP email below for the invitation. \n  \n\nSupport Group Sign-up: Click the button below and complete the brief form to sign-up for this support group. \n \nIf you have questions prior to signing up\, please email support@cllsociety.org and include the name of the CLL Support Group you’re thinking of joining. A support group facilitator will get back to you.
URL:https://cllsociety.org/event/oberlin-oh-cll-patient-support-group-2020-04-18-2020-06-20-2021-06-19/2026-08-15/
LOCATION:Oberlin OH CLL Society Support Group
GEO:41.3028178;-82.211508
END:VEVENT
BEGIN:VEVENT
DTSTART;TZID=America/New_York:20260919T130000
DTEND;TZID=America/New_York:20260919T140000
DTSTAMP:20260423T200321
CREATED:20190311T080633Z
LAST-MODIFIED:20241011T172058Z
UID:10009112-1789822800-1789826400@cllsociety.org
SUMMARY:Oberlin OH CLL Society Support Group
DESCRIPTION:This Support Group meeting will be held virtually. Support group members will receive an invitation to register for the meeting from the support group facilitator. If you are new to the group\, please contact the RSVP email below for the invitation. \n  \n\nSupport Group Sign-up: Click the button below and complete the brief form to sign-up for this support group. \n \nIf you have questions prior to signing up\, please email support@cllsociety.org and include the name of the CLL Support Group you’re thinking of joining. A support group facilitator will get back to you.
URL:https://cllsociety.org/event/oberlin-oh-cll-patient-support-group-2020-04-18-2020-06-20-2021-06-19/2026-09-19/
LOCATION:Oberlin OH CLL Society Support Group
GEO:41.3028178;-82.211508
END:VEVENT
BEGIN:VEVENT
DTSTART;TZID=America/New_York:20261017T130000
DTEND;TZID=America/New_York:20261017T140000
DTSTAMP:20260423T200321
CREATED:20190311T080633Z
LAST-MODIFIED:20241011T172058Z
UID:10009113-1792242000-1792245600@cllsociety.org
SUMMARY:Oberlin OH CLL Society Support Group
DESCRIPTION:This Support Group meeting will be held virtually. Support group members will receive an invitation to register for the meeting from the support group facilitator. If you are new to the group\, please contact the RSVP email below for the invitation. \n  \n\nSupport Group Sign-up: Click the button below and complete the brief form to sign-up for this support group. \n \nIf you have questions prior to signing up\, please email support@cllsociety.org and include the name of the CLL Support Group you’re thinking of joining. A support group facilitator will get back to you.
URL:https://cllsociety.org/event/oberlin-oh-cll-patient-support-group-2020-04-18-2020-06-20-2021-06-19/2026-10-17/
LOCATION:Oberlin OH CLL Society Support Group
GEO:41.3028178;-82.211508
END:VEVENT
BEGIN:VEVENT
DTSTART;TZID=America/New_York:20261121T130000
DTEND;TZID=America/New_York:20261121T140000
DTSTAMP:20260423T200321
CREATED:20190311T080633Z
LAST-MODIFIED:20241011T172058Z
UID:10009114-1795266000-1795269600@cllsociety.org
SUMMARY:Oberlin OH CLL Society Support Group
DESCRIPTION:This Support Group meeting will be held virtually. Support group members will receive an invitation to register for the meeting from the support group facilitator. If you are new to the group\, please contact the RSVP email below for the invitation. \n  \n\nSupport Group Sign-up: Click the button below and complete the brief form to sign-up for this support group. \n \nIf you have questions prior to signing up\, please email support@cllsociety.org and include the name of the CLL Support Group you’re thinking of joining. A support group facilitator will get back to you.
URL:https://cllsociety.org/event/oberlin-oh-cll-patient-support-group-2020-04-18-2020-06-20-2021-06-19/2026-11-21/
LOCATION:Oberlin OH CLL Society Support Group
GEO:41.3028178;-82.211508
END:VEVENT
BEGIN:VEVENT
DTSTART;TZID=America/New_York:20261219T130000
DTEND;TZID=America/New_York:20261219T140000
DTSTAMP:20260423T200321
CREATED:20190311T080633Z
LAST-MODIFIED:20241011T172058Z
UID:10009115-1797685200-1797688800@cllsociety.org
SUMMARY:Oberlin OH CLL Society Support Group
DESCRIPTION:This Support Group meeting will be held virtually. Support group members will receive an invitation to register for the meeting from the support group facilitator. If you are new to the group\, please contact the RSVP email below for the invitation. \n  \n\nSupport Group Sign-up: Click the button below and complete the brief form to sign-up for this support group. \n \nIf you have questions prior to signing up\, please email support@cllsociety.org and include the name of the CLL Support Group you’re thinking of joining. A support group facilitator will get back to you.
URL:https://cllsociety.org/event/oberlin-oh-cll-patient-support-group-2020-04-18-2020-06-20-2021-06-19/2026-12-19/
LOCATION:Oberlin OH CLL Society Support Group
GEO:41.3028178;-82.211508
END:VEVENT
BEGIN:VEVENT
DTSTART;TZID=America/New_York:20270116T130000
DTEND;TZID=America/New_York:20270116T140000
DTSTAMP:20260423T200321
CREATED:20190311T080633Z
LAST-MODIFIED:20241011T172058Z
UID:10009116-1800104400-1800108000@cllsociety.org
SUMMARY:Oberlin OH CLL Society Support Group
DESCRIPTION:This Support Group meeting will be held virtually. Support group members will receive an invitation to register for the meeting from the support group facilitator. If you are new to the group\, please contact the RSVP email below for the invitation. \n  \n\nSupport Group Sign-up: Click the button below and complete the brief form to sign-up for this support group. \n \nIf you have questions prior to signing up\, please email support@cllsociety.org and include the name of the CLL Support Group you’re thinking of joining. A support group facilitator will get back to you.
URL:https://cllsociety.org/event/oberlin-oh-cll-patient-support-group-2020-04-18-2020-06-20-2021-06-19/2027-01-16/
LOCATION:Oberlin OH CLL Society Support Group
GEO:41.3028178;-82.211508
END:VEVENT
END:VCALENDAR